BEGIN:VCALENDAR
VERSION:2.0
PRODID:-//ChamberMaster//Event Calendar 2.0//EN
METHOD:PUBLISH
X-PUBLISHED-TTL:P1H
REFRESH-INTERVAL:P1H
CALSCALE:GREGORIAN
BEGIN:VTIMEZONE
TZID:America/Los_Angeles
BEGIN:DAYLIGHT
RRULE:FREQ=YEARLY;BYMONTH=3;BYDAY=2SU
DTSTART:20070101T000000
TZOFFSETFROM:-0800
TZOFFSETTO:-0700
TZNAME:Pacific Daylight Time
END:DAYLIGHT
BEGIN:STANDARD
RRULE:FREQ=YEARLY;BYMONTH=11;BYDAY=1SU
DTSTART:20070101T000000
TZOFFSETFROM:-0700
TZOFFSETTO:-0800
TZNAME:Pacific Standard Time
END:STANDARD
END:VTIMEZONE
BEGIN:VEVENT
DTSTART;TZID=America/Los_Angeles:20250913T090000
DTEND;TZID=America/Los_Angeles:20250913T150000
X-MICROSOFT-CDO-ALLDAYEVENT:FALSE
SUMMARY:Veterans All American Car Show
DESCRIPTION:A benefit for Veterans of Foreign Wars\, Bear Flag Post 1943\nSeptember 13th\, 9am-3pm\nHeld at the Veterans Memorial Building-126 First Street West\, Sonoma\n\nLive Music-Vendors-Silent Auction-Food-Craft Beer-Pancake Breakfast\n\nOpen to all '76 and earlier American made cars and trucks\n\n(707) 509-3609\nwww.vfwpost1943.org
X-ALT-DESC;FMTTYPE=text/html:A benefit for Veterans of Foreign Wars\, Bear Flag Post 1943\nSeptember 13th\, 9am-3pm\nHeld at the Veterans Memorial Building-126 First Street West\, Sonoma\n\nLive Music-Vendors-Silent Auction-Food-Craft Beer-Pancake Breakfast\n\nOpen to all '76 and earlier American made cars and trucks\n\n(707) 509-3609\nwww.vfwpost1943.org
LOCATION:126 First St. West Sonoma CA 95476
UID:e.2414.1264436
SEQUENCE:3
DTSTAMP:20260422T170554Z
URL:https://members.sonomachamber.org/event-calendar/Details/veterans-all-american-car-show-1480368?sourceTypeId=Hub
END:VEVENT
END:VCALENDAR
