BEGIN:VCALENDAR
VERSION:2.0
PRODID:-//ChamberMaster//Event Calendar 2.0//EN
METHOD:PUBLISH
X-PUBLISHED-TTL:P1H
REFRESH-INTERVAL:P1H
CALSCALE:GREGORIAN
BEGIN:VTIMEZONE
TZID:America/Los_Angeles
BEGIN:DAYLIGHT
RRULE:FREQ=YEARLY;BYMONTH=3;BYDAY=2SU
DTSTART:20070101T000000
TZOFFSETFROM:-0800
TZOFFSETTO:-0700
TZNAME:Pacific Daylight Time
END:DAYLIGHT
BEGIN:STANDARD
RRULE:FREQ=YEARLY;BYMONTH=11;BYDAY=1SU
DTSTART:20070101T000000
TZOFFSETFROM:-0700
TZOFFSETTO:-0800
TZNAME:Pacific Standard Time
END:STANDARD
END:VTIMEZONE
BEGIN:VEVENT
DTSTART;TZID=America/Los_Angeles:20220419T170000
DTEND;TZID=America/Los_Angeles:20220419T190000
X-MICROSOFT-CDO-ALLDAYEVENT:FALSE
SUMMARY:LOCALFest 2022
DESCRIPTION:You're invited to walk through the Sebastiani Vineyards & Winery to see new products and services that are being offered by NEW Sonoma Valley businesses! In addition to the businesses\, LOCALfest also provides an opportunity for local nonprofit organizations to introduce themselves to the community for fundraising and volunteer outreach needs.KSVY will be broadcasting live!2022 Sponsor ExhibitorsNorth Bay Credit Union\nSonoma Market2022 New Business Exhibitors HipMapsA Vine VacationPrime Cinemas SonomaHighway 12 WineryFRES.COGonzo ParentingSuncraft Fine FoodsHarvey's Donut BarSonoma Therapeutic MassageSinful Sweets by StacieMassage & Skincare by KassandraCommunity SupplyYeehaw! CoffeeMusette AtelierKDV Law\, LLPLockton InsurancePushpak MotorsGroundswell Management\, Inc.The Epicurean ConnectionSunrun SolarGrateful Hearts Garden ArtDobon's Choice Pain Relief ProductsSongbird Parlour Sonoma SalveRefill Madness707 Embroidery ZoneT & K MixologyTherapeutic TouchJana Morgan\, LCSW psychotherapistRosa Grande TattooRazzle Dazzle BoutiqueGeneva Financial LLC2022 Volunteer Sonoma ExhibitorsArt Escape\nBoys & Girls Clubs of Sonoma Valley\nSCORE North Coast\nSonoma Overnight Support\nSonoma Plaza History\nSonoma Sister Cities Association\nSonoma Valley Community Health Center\nSonoma Valley Mentoring Alliance\nSonoma Valley Visitors Bureau\nVintage House Senior CenterWe're excited to have a representative from the office of California State Senator Bill Dodd in attendance!Thank you to our event sponsors: Sebastiani Vineyards & Winery\, Bright Event Rentals and The City of Sonoma!
X-ALT-DESC;FMTTYPE=text/html:<!DOCTYPE html><html><head><title></title></head><body aria-disabled="false"><p><span style="color: rgb(51\, 51\, 51)\; font-family: Montserrat\, sans-serif\; font-size: 18px\; font-style: normal\; font-variant-ligatures: normal\; font-variant-caps: normal\; font-weight: 400\; letter-spacing: normal\; orphans: 2\; text-align: start\; text-indent: 0px\; text-transform: none\; white-space: normal\; widows: 2\; word-spacing: 0px\; -webkit-text-stroke-width: 0px\; background-color: rgb(255\, 255\, 255)\; text-decoration-thickness: initial\; text-decoration-style: initial\; text-decoration-color: initial\; float: none\; display: inline !important\;">You&#39\;re invited to walk through the&nbsp\;</span><a fr-original-style="" href="https://www.sebastiani.com/" rel="noopener noreferrer" style="user-select: auto\;" target="_blank"><span style="color: rgb(51\, 51\, 51)\; font-family: Montserrat\, sans-serif\; font-size: 18px\; font-style: normal\; font-variant-ligatures: normal\; font-variant-caps: normal\; font-weight: 400\; letter-spacing: normal\; orphans: 2\; text-align: start\; text-indent: 0px\; text-transform: none\; white-space: normal\; widows: 2\; word-spacing: 0px\; -webkit-text-stroke-width: 0px\; background-color: rgb(255\, 255\, 255)\; text-decoration-thickness: initial\; text-decoration-style: initial\; text-decoration-color: initial\; float: none\; display: inline !important\;"><strong fr-original-style="" style="font-weight: 700\;">Sebastiani Vineyards &amp\; Winery</strong></span></a><span style="color: rgb(51\, 51\, 51)\; font-family: Montserrat\, sans-serif\; font-size: 18px\; font-style: normal\; font-variant-ligatures: normal\; font-variant-caps: normal\; font-weight: 400\; letter-spacing: normal\; orphans: 2\; text-align: start\; text-indent: 0px\; text-transform: none\; white-space: normal\; widows: 2\; word-spacing: 0px\; -webkit-text-stroke-width: 0px\; background-color: rgb(255\, 255\, 255)\; text-decoration-thickness: initial\; text-decoration-style: initial\; text-decoration-color: initial\; float: none\; display: inline !important\;">&nbsp\;to see new products and services that are being offered by NEW Sonoma Valley businesses! In addition to the businesses\, LOCALfest also provides an opportunity for local nonprofit organizations to introduce themselves to the community for fundraising and volunteer outreach needs.</span></p><p><a fr-original-style="" href="https://ksvy.org/" rel="noopener noreferrer" style="user-select: auto\;" target="_blank"><strong fr-original-style="" style="font-weight: 700\;"><span style="color: rgb(51\, 51\, 51)\; font-family: Montserrat\, sans-serif\; font-size: 18px\; font-style: normal\; font-variant-ligatures: normal\; font-variant-caps: normal\; font-weight: 400\; letter-spacing: normal\; orphans: 2\; text-align: start\; text-indent: 0px\; text-transform: none\; white-space: normal\; widows: 2\; word-spacing: 0px\; -webkit-text-stroke-width: 0px\; background-color: rgb(255\, 255\, 255)\; text-decoration-thickness: initial\; text-decoration-style: initial\; text-decoration-color: initial\; float: none\; display: inline !important\;">KSVY</span></strong></a><span style="color: rgb(51\, 51\, 51)\; font-family: Montserrat\, sans-serif\; font-size: 18px\; font-style: normal\; font-variant-ligatures: normal\; font-variant-caps: normal\; font-weight: 400\; letter-spacing: normal\; orphans: 2\; text-align: start\; text-indent: 0px\; text-transform: none\; white-space: normal\; widows: 2\; word-spacing: 0px\; -webkit-text-stroke-width: 0px\; background-color: rgb(255\, 255\, 255)\; text-decoration-thickness: initial\; text-decoration-style: initial\; text-decoration-color: initial\; float: none\; display: inline !important\;"> will be broadcasting live!</span></p><p><u><strong fr-original-style="" style="font-weight: 700\;"><span style="font-size: 18px\;color: rgb(51\, 51\, 51)\; font-family: Montserrat\, sans-serif\; font-size: 16px\; font-style: normal\; font-variant-ligatures: normal\; font-variant-caps: normal\; font-weight: 400\; letter-spacing: normal\; orphans: 2\; text-align: start\; text-indent: 0px\; text-transform: none\; white-space: normal\; widows: 2\; word-spacing: 0px\; -webkit-text-stroke-width: 0px\; background-color: rgb(255\, 255\, 255)\; text-decoration-thickness: initial\; text-decoration-style: initial\; text-decoration-color: initial\; display: inline !important\; float: none\;color: rgb(51\, 51\, 51)\; font-family: Montserrat\, sans-serif\; font-size: 16px\; font-style: normal\; font-variant-ligatures: normal\; font-variant-caps: normal\; font-weight: 400\; letter-spacing: normal\; orphans: 2\; text-align: start\; text-indent: 0px\; text-transform: none\; white-space: normal\; widows: 2\; word-spacing: 0px\; -webkit-text-stroke-width: 0px\; background-color: rgb(255\, 255\, 255)\; text-decoration-thickness: initial\; text-decoration-style: initial\; text-decoration-color: initial\; display: inline !important\; float: none\;">2022 Sponsor Exhibitors</span></strong></u><a href="http://Art%20Escape%20Boys%20&%20Girls%20Clubs%20of%20Sonoma%20Valley%20SCORE%20North%20Coast" target="_blank" rel="noopener noreferrer" fr-original-style="" style="user-select: auto\;"></a></p><p><a fr-original-style="" href="http://Art%20Escape%20Boys%20&%20Girls%20Clubs%20of%20Sonoma%20Valley%20SCORE%20North%20Coast" rel="noopener noreferrer" style="user-select: auto\;" target="_blank">North Bay Credit Union</a><br><a fr-original-style="" href="https://sonomamarket.net/" rel="noopener noreferrer" style="user-select: auto\;" target="_blank">Sonoma Market</a></p><div data-ccp-timestamp="1649364934688"><u><strong fr-original-style="" style="font-weight: 700\;"><span style="font-size: 18px\;">2022 New Business Exhibitors</span></strong></u><table border="0" cellpadding="0" cellspacing="0" fr-original-style="border-collapse:  collapse\;width:445pt\;" style="border-collapse: collapse\; width: 445pt\; border: 0px\; empty-cells: show\; max-width: 100%\;" width="593"><colgroup><col width="284" style="mso-width-source:userset\;mso-width-alt:10386\;width:213pt\;"> <col width="309" style="mso-width-source:userset\;mso-width-alt:11300\;width:232pt\;"></colgroup><tbody><tr fr-original-style="height:15.0pt\;" height="20" style="height: 15pt\; user-select: none\;"><td fr-original-style="height:15.0pt\;width:213pt\;" height="20" style="height: 15pt\; width: 213pt\; min-width: 5px\; border: 1px solid rgb(221\, 221\, 221)\; user-select: text\;" width="284">HipMaps</td><td fr-original-style="width:232pt\;" style="width: 232pt\; min-width: 5px\; border: 1px solid rgb(221\, 221\, 221)\; user-select: text\;" width="309">A Vine Vacation</td></tr><tr fr-original-style="height:15.0pt\;" height="20" style="height: 15pt\; user-select: none\;"><td fr-original-style="height:15.0pt\;" height="20" style="height: 15pt\; min-width: 5px\; border: 1px solid rgb(221\, 221\, 221)\; user-select: text\;">Prime Cinemas Sonoma</td><td fr-original-style="" style="min-width: 5px\; border: 1px solid rgb(221\, 221\, 221)\; user-select: text\;">Highway 12 Winery</td></tr><tr fr-original-style="height:15.0pt\;" height="20" style="height: 15pt\; user-select: none\;"><td fr-original-style="height:15.0pt\;" height="20" style="height: 15pt\; min-width: 5px\; border: 1px solid rgb(221\, 221\, 221)\; user-select: text\;">FRES.CO</td><td fr-original-style="" style="min-width: 5px\; border: 1px solid rgb(221\, 221\, 221)\; user-select: text\;">Gonzo Parenting</td></tr><tr fr-original-style="height:15.0pt\;" height="20" style="height: 15pt\; user-select: none\;"><td fr-original-style="height:15.0pt\;" height="20" style="height: 15pt\; min-width: 5px\; border: 1px solid rgb(221\, 221\, 221)\; user-select: text\;">Suncraft Fine Foods</td><td fr-original-style="" style="min-width: 5px\; border: 1px solid rgb(221\, 221\, 221)\; user-select: text\;">Harvey&#39\;s Donut Bar</td></tr><tr fr-original-style="height:15.0pt\;" height="20" style="height: 15pt\; user-select: none\;"><td fr-original-style="height:15.0pt\;" height="20" style="height: 15pt\; min-width: 5px\; border: 1px solid rgb(221\, 221\, 221)\; user-select: text\;">Sonoma Therapeutic Massage</td><td fr-original-style="" style="min-width: 5px\; border: 1px solid rgb(221\, 221\, 221)\; user-select: text\;">Sinful Sweets by Stacie</td></tr><tr fr-original-style="height:15.0pt\;" height="20" style="height: 15pt\; user-select: none\;"><td fr-original-style="height:15.0pt\;" height="20" style="height: 15pt\; min-width: 5px\; border: 1px solid rgb(221\, 221\, 221)\; user-select: text\;">Massage &amp\; Skincare by Kassandra</td><td fr-original-style="" style="min-width: 5px\; border: 1px solid rgb(221\, 221\, 221)\; user-select: text\;">Community Supply</td></tr><tr fr-original-style="height:15.0pt\;" height="20" style="height: 15pt\; user-select: none\;"><td fr-original-style="height:15.0pt\;" height="20" style="height: 15pt\; min-width: 5px\; border: 1px solid rgb(221\, 221\, 221)\; user-select: text\;">Yeehaw! Coffee</td><td fr-original-style="" style="min-width: 5px\; border: 1px solid rgb(221\, 221\, 221)\; user-select: text\;">Musette Atelier</td></tr><tr fr-original-style="height:15.0pt\;" height="20" style="height: 15pt\; user-select: none\;"><td fr-original-style="height:15.0pt\;" height="20" style="height: 15pt\; min-width: 5px\; border: 1px solid rgb(221\, 221\, 221)\; user-select: text\;">KDV Law\, LLP</td><td fr-original-style="" style="min-width: 5px\; border: 1px solid rgb(221\, 221\, 221)\; user-select: text\;">Lockton Insurance</td></tr><tr fr-original-style="height:15.0pt\;" height="20" style="height: 15pt\; user-select: none\;"><td fr-original-style="height:15.0pt\;" height="20" style="height: 15pt\; min-width: 5px\; border: 1px solid rgb(221\, 221\, 221)\; user-select: text\;">Pushpak Motors</td><td fr-original-style="" style="min-width: 5px\; border: 1px solid rgb(221\, 221\, 221)\; user-select: text\;">Groundswell Management\, Inc.</td></tr><tr fr-original-style="height:15.0pt\;" height="20" style="height: 15pt\; user-select: none\;"><td fr-original-style="height:15.0pt\;" height="20" style="height: 15pt\; min-width: 5px\; border: 1px solid rgb(221\, 221\, 221)\; user-select: text\;">The Epicurean Connection</td><td fr-original-style="" style="min-width: 5px\; border: 1px solid rgb(221\, 221\, 221)\; user-select: text\;">Sunrun Solar</td></tr><tr fr-original-style="height:15.0pt\;" height="20" style="height: 15pt\; user-select: none\;"><td fr-original-style="height:15.0pt\;" height="20" style="height: 15pt\; min-width: 5px\; border: 1px solid rgb(221\, 221\, 221)\; user-select: text\;">Grateful Hearts Garden Art</td><td fr-original-style="" style="min-width: 5px\; border: 1px solid rgb(221\, 221\, 221)\; user-select: text\;">Dobon&#39\;s Choice Pain Relief Products</td></tr><tr fr-original-style="height:15.0pt\;" height="20" style="height: 15pt\; user-select: none\;"><td fr-original-style="height:15.0pt\;" height="20" style="height: 15pt\; min-width: 5px\; border: 1px solid rgb(221\, 221\, 221)\; user-select: text\;">Songbird Parlour&nbsp\;</td><td fr-original-style="" style="min-width: 5px\; border: 1px solid rgb(221\, 221\, 221)\; user-select: text\;">Sonoma Salve</td></tr><tr fr-original-style="height:15.0pt\;" height="20" style="height: 15pt\; user-select: none\;"><td fr-original-style="height:15.0pt\;" height="20" style="height: 15pt\; min-width: 5px\; border: 1px solid rgb(221\, 221\, 221)\; user-select: text\;">Refill Madness</td><td fr-original-style="" style="min-width: 5px\; border: 1px solid rgb(221\, 221\, 221)\; user-select: text\;">707 Embroidery Zone</td></tr><tr fr-original-style="height:15.0pt\;" height="20" style="height: 15pt\; user-select: none\;"><td fr-original-style="height:15.0pt\;" height="20" style="height: 15pt\; min-width: 5px\; border: 1px solid rgb(221\, 221\, 221)\; user-select: text\;">T &amp\; K Mixology</td><td fr-original-style="" style="min-width: 5px\; border: 1px solid rgb(221\, 221\, 221)\; user-select: text\;">Therapeutic Touch</td></tr><tr fr-original-style="height:15.0pt\;" height="20" style="height: 15pt\; user-select: none\;"><td fr-original-style="height:15.0pt\;" height="20" style="height: 15pt\; min-width: 5px\; border: 1px solid rgb(221\, 221\, 221)\; user-select: text\;">Jana Morgan\, LCSW psychotherapist</td><td fr-original-style="" style="min-width: 5px\; border: 1px solid rgb(221\, 221\, 221)\; user-select: text\;">Rosa Grande Tattoo</td></tr><tr fr-original-style="height:15.0pt\;" height="20" style="height: 15pt\; user-select: none\;"><td fr-original-style="height:15.0pt\;" height="20" style="height: 15pt\; min-width: 5px\; border: 1px solid rgb(221\, 221\, 221)\; user-select: text\;">Razzle Dazzle Boutique</td><td fr-original-style="" style="min-width: 5px\; border: 1px solid rgb(221\, 221\, 221)\; user-select: text\;">Geneva Financial LLC</td></tr></tbody></table></div><p><u><strong fr-original-style="" style="font-weight: 700\;"><span style="font-size: 18px\;">2022 Volunteer Sonoma Exhibitors</span></strong></u></p><p><a fr-original-style="" href="https://www.artescapesonoma.com/" rel="noopener noreferrer" style="user-select: auto\;" target="_blank"><strong fr-original-style="" style="font-weight: 700\;">Art Escape</strong></a><br><a fr-original-style="" href="https://www.bgcsonoma.org/" rel="noopener noreferrer" style="user-select: auto\;" target="_blank"><strong fr-original-style="" style="font-weight: 700\;">Boys &amp\; Girls Clubs of Sonoma Valley</strong></a><br><a fr-original-style="" href="https://northcoast.score.org" rel="noopener noreferrer" style="user-select: auto\;" target="_blank"><strong fr-original-style="" style="font-weight: 700\;">SCORE North Coast</strong></a><br><a fr-original-style="" href="https://www.sonomaovernightsupport.org/" rel="noopener noreferrer" style="user-select: auto\;" target="_blank"><strong fr-original-style="" style="font-weight: 700\;">Sonoma Overnight Support</strong></a><br><a fr-original-style="" href="http://www.sonomaplazahistory.com/" rel="noopener noreferrer" style="user-select: auto\;" target="_blank"><strong fr-original-style="" style="font-weight: 700\;">Sonoma Plaza History</strong></a><br><a fr-original-style="" href="https://sonomasistercitiesassociation.org/" rel="noopener noreferrer" style="user-select: auto\;" target="_blank"><strong fr-original-style="" style="font-weight: 700\;">Sonoma Sister Cities Association</strong></a><br><a fr-original-style="" href="https://svchc.org/" rel="noopener noreferrer" style="user-select: auto\;" target="_blank"><strong fr-original-style="" style="font-weight: 700\;">Sonoma Valley Community Health Center</strong></a><br><a fr-original-style="" href="https://sonomamentoring.org/" rel="noopener noreferrer" style="user-select: auto\;" target="_blank"><strong fr-original-style="" style="font-weight: 700\;">Sonoma Valley Mentoring Alliance</strong></a><br><a fr-original-style="" href="https://www.sonomavalley.com/" rel="noopener noreferrer" style="user-select: auto\;" target="_blank"><strong fr-original-style="" style="font-weight: 700\;">Sonoma Valley Visitors Bureau</strong></a><br><a fr-original-style="" href="https://vintagehouse.org/" rel="noopener noreferrer" style="user-select: auto\;" target="_blank"><strong fr-original-style="" style="font-weight: 700\;">Vintage House Senior Center</strong></a></p><p>We&#39\;re excited to have a representative from the office of <a fr-original-style="" href="https://sd03.senate.ca.gov/" rel="noopener noreferrer" style="user-select: auto\;" target="_blank"><strong fr-original-style="" style="font-weight: 700\;">California State Senator Bill Dodd</strong></a> in attendance!</p><p>Thank you to our event sponsors: <a fr-original-style="" href="https://www.sebastiani.com/" rel="noopener noreferrer" style="user-select: auto\;" target="_blank"><span style="color: rgb(51\, 51\, 51)\; font-family: Montserrat\, sans-serif\; font-size: 18px\; font-style: normal\; font-variant-ligatures: normal\; font-variant-caps: normal\; font-weight: 400\; letter-spacing: normal\; orphans: 2\; text-align: start\; text-indent: 0px\; text-transform: none\; white-space: normal\; widows: 2\; word-spacing: 0px\; -webkit-text-stroke-width: 0px\; background-color: rgb(255\, 255\, 255)\; text-decoration-thickness: initial\; text-decoration-style: initial\; text-decoration-color: initial\; float: none\; display: inline !important\;"><strong fr-original-style="" style="font-weight: 700\;">Sebastiani Vineyards &amp\; Winery</strong></span></a><span style="color: rgb(51\, 51\, 51)\; font-family: Montserrat\, sans-serif\; font-size: 18px\; font-style: normal\; font-variant-ligatures: normal\; font-variant-caps: normal\; font-weight: 400\; letter-spacing: normal\; orphans: 2\; text-align: start\; text-indent: 0px\; text-transform: none\; white-space: normal\; widows: 2\; word-spacing: 0px\; -webkit-text-stroke-width: 0px\; background-color: rgb(255\, 255\, 255)\; text-decoration-thickness: initial\; text-decoration-style: initial\; text-decoration-color: initial\; float: none\; display: inline !important\;"><strong fr-original-style="" style="font-weight: 700\;">\,&nbsp\;</strong></span><a fr-original-style="" href="https://bright.com/" rel="noopener noreferrer" style="user-select: auto\;" target="_blank"><span style="color: rgb(51\, 51\, 51)\; font-family: Montserrat\, sans-serif\; font-size: 18px\; font-style: normal\; font-variant-ligatures: normal\; font-variant-caps: normal\; font-weight: 400\; letter-spacing: normal\; orphans: 2\; text-align: start\; text-indent: 0px\; text-transform: none\; white-space: normal\; widows: 2\; word-spacing: 0px\; -webkit-text-stroke-width: 0px\; background-color: rgb(255\, 255\, 255)\; text-decoration-thickness: initial\; text-decoration-style: initial\; text-decoration-color: initial\; float: none\; display: inline !important\;"><strong fr-original-style="" style="font-weight: 700\;">Bright Event Rentals</strong></span></a> and <a fr-original-style="" href="https://www.sonomacity.org/" rel="noopener noreferrer" style="user-select: auto\;" target="_blank"><strong fr-original-style="" style="font-weight: 700\;">The City of Sonoma</strong></a>!</p><p><br></p></body></html>
LOCATION:389 Fourth St. East Sonoma CA 95476
UID:e.2414.585594
SEQUENCE:3
DTSTAMP:20260423T160328Z
URL:https://members.sonomachamber.org/event-calendar/Details/localfest-2022-601429?sourceTypeId=Hub
END:VEVENT
END:VCALENDAR
