BEGIN:VCALENDAR
VERSION:2.0
PRODID:-//ChamberMaster//Event Calendar 2.0//EN
METHOD:PUBLISH
X-PUBLISHED-TTL:P1H
REFRESH-INTERVAL:P1H
CALSCALE:GREGORIAN
BEGIN:VTIMEZONE
TZID:America/Los_Angeles
BEGIN:DAYLIGHT
RRULE:FREQ=YEARLY;BYMONTH=3;BYDAY=2SU
DTSTART:20070101T000000
TZOFFSETFROM:-0800
TZOFFSETTO:-0700
TZNAME:Pacific Daylight Time
END:DAYLIGHT
BEGIN:STANDARD
RRULE:FREQ=YEARLY;BYMONTH=11;BYDAY=1SU
DTSTART:20070101T000000
TZOFFSETFROM:-0700
TZOFFSETTO:-0800
TZNAME:Pacific Standard Time
END:STANDARD
END:VTIMEZONE
BEGIN:VEVENT
DTSTART;TZID=America/Los_Angeles:20260502T130000
DTEND;TZID=America/Los_Angeles:20260502T150000
X-MICROSOFT-CDO-ALLDAYEVENT:FALSE
SUMMARY:125th Annual Spring Tea in White
DESCRIPTION:The Sonoma Valley Woman's Club invite you to their 125th Anniversary Spring Tea in White!\n Join us for an elegant afternoon tea! \n\nBenefitting the SVWC Scholarship Fund!\n Saturday\, May 2nd\, 2026\n1:00-3:00pm\n574 First Street East\, Sonoma\n\nLive Music\, Prize and Gift Display\, Traditional Tea Lunch\nTickets $50 members-$65 non-members\n\nTo rsvp\, email RSVP@svwcf.org\n\nWear your finest spring whites!
X-ALT-DESC;FMTTYPE=text/html:The Sonoma Valley Woman's Club invite you to their 125th Anniversary Spring Tea in White!\n Join us for an elegant afternoon tea! \n\nBenefitting the SVWC Scholarship Fund!\n Saturday\, May 2nd\, 2026\n1:00-3:00pm\n574 First Street East\, Sonoma\n\nLive Music\, Prize and Gift Display\, Traditional Tea Lunch\nTickets $50 members-$65 non-members\n\nTo rsvp\, email RSVP@svwcf.org\n\nWear your finest spring whites!
LOCATION:574 First Street East Sonoma CA 95476
UID:e.2414.1446604
SEQUENCE:3
DTSTAMP:20260421T054953Z
URL:https://members.sonomachamber.org/event-calendar/Details/125th-annual-spring-tea-in-white-1713379?sourceTypeId=Hub
END:VEVENT
END:VCALENDAR
